Workbook

Sheet Naslovna
A11: FINANCIJSKI PLAN ZA 2025. I PROJEKCIJE ZA 2026. i 2027. GODINU
A21: Zagreb, prosinac 2024. godine

Sheet SAŽETAK
A2: I. OPĆI DIO
A4: A) SAŽETAK RAČUNA PRIHODA I RASHODA
F6: Izvršenje 2023. | G6: Tekući plan 2024. | H6: Plan za 2025. | I6: Projekcija za 2026. | J6: Projekcija za 2027.
A7: PRIHODI POSLOVANJA | F7: =+' Račun prihoda i rashoda'!E9 -> 12316450 | G7: =+' Račun prihoda i rashoda'!F9 -> 11405100 | H7: =+' Račun prihoda i rashoda'!G9 -> 11406000 | I7: =+' Račun prihoda i rashoda'!H9 -> 11706000 | J7: =+' Račun prihoda i rashoda'!I9 -> 11806000
A8: PRIHODI OD PRODAJE NEFINANCIJSKE IMOVINE | F8: 0 | G8: 0 | H8: 0 | I8: 0 | J8: 0
A9: PRIHODI UKUPNO | F9: =+F7+F8 -> 12316450 | G9: =+G7+G8 -> 11405100 | H9: =+H7+H8 -> 11406000 | I9: =+I7+I8 -> 11706000 | J9: =+J7+J8 -> 11806000
A10: RASHODI POSLOVANJA | F10: =+' Račun prihoda i rashoda'!E23 -> 8635978.1 | G10: =+' Račun prihoda i rashoda'!F23 -> 10711200 | H10: =+' Račun prihoda i rashoda'!G23 -> 10882000 | I10: =+' Račun prihoda i rashoda'!H23 -> 11002000 | J10: =+' Račun prihoda i rashoda'!I23 -> 11157000
A11: RASHODI ZA NABAVU NEFINANCIJSKE IMOVINE | F11: =+' Račun prihoda i rashoda'!E36 -> 647592.2 | G11: =+' Račun prihoda i rashoda'!F36 -> 653000 | H11: =+' Račun prihoda i rashoda'!G36 -> 463000 | I11: =+' Račun prihoda i rashoda'!H36 -> 603000 | J11: =+' Račun prihoda i rashoda'!I36 -> 503000
A12: RASHODI UKUPNO | F12: =+F10+F11 -> 9283570.3 | G12: =+G10+G11 -> 11364200 | H12: =+H10+H11 -> 11345000 | I12: =+I10+I11 -> 11605000 | J12: =+J10+J11 -> 11660000
A13: RAZLIKA - VIŠAK / MANJAK | F13: =+F9-F12 -> 3032880 | G13: =+G9-G12 -> 40900 | H13: =+H9-H12 -> 61000 | I13: =+I9-I12 -> 101000 | J13: =+J9-J12 -> 146000
A15: B) SAŽETAK RAČUNA FINANCIRANJA
F17: Izvršenje 2023. | G17: Tekući plan 2024. | H17: Plan za 2025. | I17: Projekcija za 2026. | J17: Projekcija za 2027.
A18: PRIMICI OD FINANCIJSKE IMOVINE I ZADUŽIVANJA | H18: 0 | I18: 0 | J18: 0
A19: IZDACI ZA FINANCIJSKU IMOVINU I OTPLATE ZAJMOVA | H19: 0 | I19: 0 | J19: 0
A20: PRIJENOS SREDSTAVA IZ PRETHODNE GODINE | F20: 20984454 | G20: =+F21*-1 -> 24017334 | H20: 24058234 | I20: =+H21*-1 -> 24119234 | J20: =+I21*-1 -> 24220234
A21: PRIJENOS SREDSTAVA U SLJEDEĆU GODINU | F21: -24017334 | G21: -24058234 | H21: =-H20+H22 -> -24119234 | I21: =-I20+I22 -> -24220234 | J21: =-J20+J22 -> -24366234
A22: NETO FINANCIRANJE | F22: =+F20+F21 -> -3032880 | G22: -40900 | H22: -61000 | I22: -101000 | J22: -146000
A23: VIŠAK / MANJAK + NETO FINANCIRANJE | H23: 0 | I23: 0 | J23: 0

Sheet  Račun prihoda i rashoda
A2: I. OPĆI DIO
A4: A. RAČUN PRIHODA I RASHODA
A6: A1. PRIHODI POSLOVANJA I PRIHODI OD PRODAJE NEFINANCIJSKE IMOVINE
A8: Razred | B8: Skupina | C8: Izvor | D8: Naziv prihoda | E8: Izvršenje 2023. | F8: Tekući plan 2024. | G8: Plan za 2025. | H8: Projekcija za 2026. | I8: Projekcija za 2027.
A9: 6 | D9: Prihodi poslovanja | E9: =+E10+E13+E15+E17 -> 12316450 | F9: =+F10+F13+F15+F17 -> 11405100 | G9: =+G10+G13+G15+G17 -> 11406000 | H9: =+H10+H13+H15+H17 -> 11706000 | I9: =+I10+I13+I15+I17 -> 11806000
B10: 63 | D10: Pomoći iz inozemstva i od subjekata unutar općeg proračuna | E10: =+E11+E12 -> 1398400.5 | F10: =+F11+F12 -> 4000 | G10: =+G11+G12 -> 5000 | H10: =+H11+H12 -> 5000 | I10: =+I11+I12 -> 5000
C11: 51 | D11: Pomoći od EU | E11: =+'II. POSEBNI DIO '!C68 -> 2272 | F11: =+'II. POSEBNI DIO '!D68 -> 4000 | G11: =+'II. POSEBNI DIO '!E68 -> 5000 | H11: =+'II. POSEBNI DIO '!F68 -> 5000 | I11: =+'II. POSEBNI DIO '!G68 -> 5000
C12: 561 | D12: Europski socijalni fond (ESF) | E12: =+'II. POSEBNI DIO '!C130 -> 1396128.5 | F12: 0 | G12: =+'II. POSEBNI DIO '!E130 -> 0 | H12: 0 | I12: 0
B13: 65 | D13: Prihodi od upravnih i administrativnih pristojbi, pristojbi po posebnim propisima i naknada | E13: =+E14 -> 10670520 | F13: =+F14 -> 11400000 | G13: =+G14 -> 11400000 | H13: =+H14 -> 11700000 | I13: =+I14 -> 11800000
C14: 43 | D14: Ostali prihodi za posebne namjene | E14: 10670520 | F14: 11400000 | G14: 11400000 | H14: 11700000 | I14: 11800000
B15: 66 | D15: Prihodi od prodaje proizvoda i robe te pruženih usluga, prihodi od donacija te povrati po protestiranim jamstvima | E15: =+E16 -> 1083.11 | F15: =+F16 -> 1100 | G15: =+G16 -> 1000 | H15: =+H16 -> 1000 | I15: =+I16 -> 1000
C16: 31 | D16: Vlastiti prihodi | E16: =+'II. POSEBNI DIO '!C11 -> 1083.11 | F16: =+'II. POSEBNI DIO '!D11 -> 1100 | G16: =+'II. POSEBNI DIO '!E11 -> 1000 | H16: =+'II. POSEBNI DIO '!F11 -> 1000 | I16: =+'II. POSEBNI DIO '!G11 -> 1000
B17: 67 | D17: Prihodi iz nadležnog proračuna i od HZZO-a temeljem ugovornih obveza | E17: =+E18 -> 246446.22 | F17: =+F18 -> 0 | G17: =+G18 -> 0 | H17: =+H18 -> 0 | I17: =+I18 -> 0
C18: 12 | D18: Sredstva učešća za pomoći | E18: =+'II. POSEBNI DIO '!C100 -> 246446.22 | F18: =+'II. POSEBNI DIO '!D100 -> 0 | G18: =+'II. POSEBNI DIO '!E100 -> 0 | H18: =+'II. POSEBNI DIO '!F100 -> 0 | I18: =+'II. POSEBNI DIO '!G100 -> 0
A20: A. 2. RASHODI POSLOVANJA I RASHODI ZA NABAVU NEFINANCIJSKE IMOVINE
A22: Razred | B22: Skupina | C22: Izvor | D22: Naziv rashoda | E22: Izvršenje 2023. | F22: Tekući plan 2024. | G22: Plan za 2025. | H22: Projekcija za 2026. | I22: Projekcija za 2027.
A23: 3 | D23: Rashodi poslovanja | E23: =+E24+E28+E34 -> 8635978.1 | F23: =+F24+F28+F34 -> 10711200 | G23: =+G24+G28+G32+G34 -> 10882000 | H23: =+H24+H28+H32+H34 -> 11002000 | I23: =+I24+I28+I32+I34 -> 11157000
B24: 31 | D24: Rashodi za zaposlene | E24: =+E25+E26+E27 -> 1552579.6 | F24: =+F25+F26+F27 -> 2215000 | G24: =+G25+G26+G27 -> 2570000 | H24: =+H25+H26+H27 -> 2625000 | I24: =+I25+I26+I27 -> 2685000
C25: 12 | D25: Sredstva učešća za pomoći | E25: =+'II. POSEBNI DIO '!C102 -> 60753.81 | F25: =+'II. POSEBNI DIO '!D102 -> 0 | G25: =+'II. POSEBNI DIO '!E102 -> 0 | H25: =+'II. POSEBNI DIO '!F102 -> 0 | I25: =+'II. POSEBNI DIO '!G102 -> 0
C26: 43 | D26: Ostali prihodi za posebne namjene | E26: =+'II. POSEBNI DIO '!C18 -> 1148221 | F26: =+'II. POSEBNI DIO '!D18 -> 2215000 | G26: =+'II. POSEBNI DIO '!E18 -> 2570000 | H26: =+'II. POSEBNI DIO '!F18 -> 2625000 | I26: =+'II. POSEBNI DIO '!G18 -> 2685000
C27: 561 | D27: Europski socijalni fond (ESF) | E27: =+'II. POSEBNI DIO '!C132 -> 343604.87 | F27: =+'II. POSEBNI DIO '!D132 -> 0 | G27: =+'II. POSEBNI DIO '!E132 -> 0 | H27: =+'II. POSEBNI DIO '!F132 -> 0 | I27: =+'II. POSEBNI DIO '!G132 -> 0
B28: 32 | D28: Materijalni rashodi | E28: =+E29+E30+E31+E32+E33 -> 7081945.7 | F28: =+F29+F30+F31+F32+F33 -> 8493700 | G28: =+G29+G30+G31+G33 -> 8304500 | H28: =+H29+H30+H31+H33 -> 8369500 | I28: =+I29+I30+I31+I33 -> 8464500
C29: 12 | D29: Sredstva učešća za pomoći | E29: =+'II. POSEBNI DIO '!C107 -> 119281.7 | F29: =+'II. POSEBNI DIO '!D107 -> 0 | G29: =+'II. POSEBNI DIO '!E107 -> 0 | H29: =+'II. POSEBNI DIO '!F107 -> 0 | I29: =+'II. POSEBNI DIO '!G107 -> 0
C30: 31 | D30: Vlastiti prihodi | E30: =+'II. POSEBNI DIO '!C13 -> 1083.11 | F30: =+'II. POSEBNI DIO '!D13 -> 1100 | G30: =+'II. POSEBNI DIO '!E13 -> 1000 | H30: =+'II. POSEBNI DIO '!F13 -> 1000 | I30: =+'II. POSEBNI DIO '!G13 -> 1000
C31: 43 | D31: Ostali prihodi za posebne namjene | E31: =+'II. POSEBNI DIO '!C27+'II. POSEBNI DIO '!C75+'II. POSEBNI DIO '!C81+'II. POSEBNI DIO '!C96 -> 6283112.6 | F31: =+'II. POSEBNI DIO '!D27+'II. POSEBNI DIO '!D75+'II. POSEBNI DIO '!D81+'II. POSEBNI DIO '!D96 -> 8488600 | G31: =+'II. POSEBNI DIO '!E27+'II. POSEBNI DIO '!E75+'II. POSEBNI DIO '!E81+'II. POSEBNI DIO '!E96 -> 8303500 | H31: =+'II. POSEBNI DIO '!F27+'II. POSEBNI DIO '!F75+'II. POSEBNI DIO '!F81+'II. POSEBNI DIO '!F96 -> 8368500 | I31: =+'II. POSEBNI DIO '!G27+'II. POSEBNI DIO '!G75+'II. POSEBNI DIO '!G81+'II. POSEBNI DIO '!G96 -> 8463500
C32: 51 | D32: Pomoći od EU | E32: =+'II. POSEBNI DIO '!C69 -> 2272 | F32: =+'II. POSEBNI DIO '!D69 -> 4000 | G32: =+'II. POSEBNI DIO '!E69 -> 5000 | H32: =+'II. POSEBNI DIO '!F69 -> 5000 | I32: =+'II. POSEBNI DIO '!G69 -> 5000
C33: 561 | D33: Europski socijalni fond (ESF) | E33: =+'II. POSEBNI DIO '!C137 -> 676196.31 | F33: =+'II. POSEBNI DIO '!D137 -> 0 | G33: =+'II. POSEBNI DIO '!E137 -> 0 | H33: =+'II. POSEBNI DIO '!F137 -> 0 | I33: =+'II. POSEBNI DIO '!G137 -> 0
B34: 34 | D34: Financijski rashodi | E34: =+E35 -> 1452.72 | F34: =+F35 -> 2500 | G34: =+G35 -> 2500 | H34: =+H35 -> 2500 | I34: =+I35 -> 2500
C35: 43 | D35: Ostali prihodi za posebne namjene | E35: =+'II. POSEBNI DIO '!C53 -> 1452.72 | F35: =+'II. POSEBNI DIO '!D53 -> 2500 | G35: =+'II. POSEBNI DIO '!E53 -> 2500 | H35: =+'II. POSEBNI DIO '!F53 -> 2500 | I35: =+'II. POSEBNI DIO '!G53 -> 2500
A36: 4 | D36: Rashodi za nabavu nefinancijske imovine | E36: =+E37+E41+E45 -> 647592.2 | F36: =+F37+F41+F45 -> 653000 | G36: =+G37+G41+G45 -> 463000 | H36: =+H37+H41+H45 -> 603000 | I36: =+I37+I41+I45 -> 503000
B37: 41 | D37: Rashodi za nabavu neproizvedene dugotrajne imovine | E37: =+E38+E39+E40 -> 55135.28 | F37: =+F38+F39+F40 -> 300000 | G37: =+G38+G39+G40+G3 -> 300000 | H37: =+H38+H39+H40+H3 -> 300000 | I37: =+I38+I39+I40+I3 -> 300000
C38: 12 | D38: Sredstva učešća za pomoći | E38: 0 | F38: 0
C39: 43 | D39: Ostali prihodi za posebne namjene | E39: =+'II. POSEBNI DIO '!C85 -> 55135.28 | F39: =+'II. POSEBNI DIO '!D85 -> 300000 | G39: =+'II. POSEBNI DIO '!E85 -> 300000 | H39: =+'II. POSEBNI DIO '!F85 -> 300000 | I39: =+'II. POSEBNI DIO '!G85 -> 300000
C40: 561 | D40: Europski socijalni fond (ESF) | E40: 0 | F40: 0
B41: 42 | D41: Rashodi za nabavu proizvedene dugotrajne imovine | E41: =+E42+E43+E44 -> 592456.92 | F41: =+F42+F43+F44 -> 352500 | G41: =+G42+G43+G44 -> 162500 | H41: =+H42+H43+H44+H4 -> 302500 | I41: =+I42+I43+I44+I4 -> 202500
C42: 12 | D42: Sredstva učešća za pomoći | E42: =+'II. POSEBNI DIO '!C124 -> 66410.71 | F42: =+'II. POSEBNI DIO '!D124 -> 0 | G42: =+'II. POSEBNI DIO '!E124 -> 0 | H42: =+'II. POSEBNI DIO '!F124 -> 0 | I42: =+'II. POSEBNI DIO '!G124 -> 0
C43: 43 | D43: Ostali prihodi za posebne namjene | E43: =+'II. POSEBNI DIO '!C59+'II. POSEBNI DIO '!C88 -> 149718.84 | F43: =+'II. POSEBNI DIO '!D59+'II. POSEBNI DIO '!D88 -> 352500 | G43: =+'II. POSEBNI DIO '!E59+'II. POSEBNI DIO '!E88 -> 162500 | H43: =+'II. POSEBNI DIO '!F59+'II. POSEBNI DIO '!F88 -> 302500 | I43: =+'II. POSEBNI DIO '!G59+'II. POSEBNI DIO '!G88 -> 202500
C44: 561 | D44: Europski socijalni fond (ESF) | E44: =+'II. POSEBNI DIO '!C154 -> 376327.37 | F44: 0 | G44: =+'II. POSEBNI DIO '!E154 -> 0 | H44: =+'II. POSEBNI DIO '!F154 -> 0 | I44: =+'II. POSEBNI DIO '!G154 -> 0
B45: 45 | D45: Rashodi za dodatna ulaganja na nefinancijskoj imovini | E45: =+E46 -> 0 | F45: =+F46 -> 500 | G45: =+G46 -> 500 | H45: =+H46 -> 500 | I45: =+I46 -> 500
C46: 43 | D46: Ostali prihodi za posebne namjene | E46: =+'II. POSEBNI DIO '!C65 -> 0 | F46: =+'II. POSEBNI DIO '!D65 -> 500 | G46: =+'II. POSEBNI DIO '!E65 -> 500 | H46: =+'II. POSEBNI DIO '!F65 -> 500 | I46: =+'II. POSEBNI DIO '!G65 -> 500

Sheet Rashodi prema izvorima finan
A2: I. OPĆI DIO
A4: A.3. RASHODI PREMA IZVORIMA FINANCIRANJA
A6: BROJČANA OZNAKA I NAZIV | B6: Izvršenje 2023. | C6: Tekući plan 2024. | D6: Plan za 2025. | E6: Projekcija za 2026. | F6: Projekcija za 2027.
A7: UKUPNI RASHODI | B7: =+B8+B10+B12+B14 -> 9283570.3 | C7: =+C8+C10+C12+C14 -> 11364200 | D7: =+D8+D10+D12+D14 -> 11345000 | E7: =+E8+E10+E12+E14 -> 11605000 | F7: =+F8+F10+F12+F14 -> 11660000
A8: 1 Opći prihodi i primici | B8: =+B9 -> 246446.22 | C8: =+C9 -> 0 | D8: =+D9 -> 0 | E8: =+E9 -> 0 | F8: =+F9 -> 0
A9: 12 Sredstva učešća za pomoći | B9: =+'II. POSEBNI DIO '!C100 -> 246446.22 | C9: 0 | D9: =+'II. POSEBNI DIO '!E100 -> 0 | E9: =+'II. POSEBNI DIO '!F100 -> 0 | F9: =+'II. POSEBNI DIO '!G100 -> 0
A10: 3 Vlastiti prihodi | B10: =+B11 -> 1083.11 | C10: =+C11 -> 1100 | D10: =+D11 -> 1000 | E10: =+E11 -> 1000 | F10: =+F11 -> 1000
A11: 31 Vlastiti prihodi | B11: =+'II. POSEBNI DIO '!C11 -> 1083.11 | C11: =+'II. POSEBNI DIO '!D11 -> 1100 | D11: =+'II. POSEBNI DIO '!E11 -> 1000 | E11: =+'II. POSEBNI DIO '!F11 -> 1000 | F11: =+'II. POSEBNI DIO '!G11 -> 1000
A12: 4 Prihodi za posebne namjene | B12: =+B13 -> 7637640.4 | C12: =+C13 -> 11359100 | D12: =+D13 -> 11339000 | E12: =+E13 -> 11599000 | F12: =+F13 -> 11654000
A13: 43 Ostali prihodi za posebne namjene | B13: =+'II. POSEBNI DIO '!C16+'II. POSEBNI DIO '!C73+'II. POSEBNI DIO '!C79+'II. POSEBNI DIO '!C94 -> 7637640.4 | C13: =+'II. POSEBNI DIO '!D16+'II. POSEBNI DIO '!D73+'II. POSEBNI DIO '!D79+'II. POSEBNI DIO '!D94 -> 11359100 | D13: =+'II. POSEBNI DIO '!E16+'II. POSEBNI DIO '!E73+'II. POSEBNI DIO '!E79+'II. POSEBNI DIO '!E94 -> 11339000 | E13: =+'II. POSEBNI DIO '!F16+'II. POSEBNI DIO '!F73+'II. POSEBNI DIO '!F79+'II. POSEBNI DIO '!F94 -> 11599000 | F13: =+'II. POSEBNI DIO '!G16+'II. POSEBNI DIO '!G73+'II. POSEBNI DIO '!G79+'II. POSEBNI DIO '!G94 -> 11654000
A14: 5 Pomoći | B14: =+B15+B16 -> 1398400.5 | C14: =+C15+C16 -> 4000 | D14: =+D15+D16 -> 5000 | E14: =+E15+E16 -> 5000 | F14: =+F15 -> 5000
A15: 51 Pomoći od EU | B15: =+'II. POSEBNI DIO '!C68 -> 2272 | C15: =+'II. POSEBNI DIO '!D68 -> 4000 | D15: =+'II. POSEBNI DIO '!E68 -> 5000 | E15: =+'II. POSEBNI DIO '!F68 -> 5000 | F15: =+'II. POSEBNI DIO '!G68 -> 5000
A16: 56 Fondovi EU | B16: =+B17 -> 1396128.5 | C16: =+C17 -> 0 | D16: =+D17 -> 0 | E16: =+E17 -> 0 | F16: 0
A17: 561 Europski socijalni fond (ESF) | B17: =+'II. POSEBNI DIO '!C130 -> 1396128.5 | C17: 0 | D17: =+'II. POSEBNI DIO '!E130 -> 0 | E17: =+'II. POSEBNI DIO '!F130 -> 0 | F17: =+'II. POSEBNI DIO '!G130 -> 0

Sheet Rashodi prema funkcijskoj k 
A2: I. OPĆI DIO
A4: A. 4. RASHODI PREMA FUNKCIJSKOJ KLASIFIKACIJI
A6: BROJČANA OZNAKA I NAZIV | B6: Izvršenje 2023. | C6: Tekući plan 2024. | D6: Plan za 2025. | E6: Projekcija za 2026. | F6: Projekcija za 2027.
A7: UKUPNI RASHODI
A8: 10 Socijalna zaštita
A9: 109 Opći ekonomski, trgovački i poslovi vezani uz rad | B9: =+'II. POSEBNI DIO '!C7 -> 9283570.3 | C9: =+'II. POSEBNI DIO '!D7 -> 11364200 | D9: =+'II. POSEBNI DIO '!E7 -> 11345000 | E9: =+'II. POSEBNI DIO '!F7 -> 11605000 | F9: =+'II. POSEBNI DIO '!G7 -> 11660000

Sheet Račun financiranja
A2: I. OPĆI DIO
A4: B. RAČUN FINANCIRANJA
A6: Razred | B6: Skupina | C6: Izvor | D6: Naziv | E6: Izvršenje 2023. | F6: Tekući plan 2024. | G6: Plan za 2025. | H6: Projekcija za 2026. | I6: Projekcija za 2027.
A7: 8 | D7: Primici od financijske imovine i zaduživanja | E7: 0 | F7: 0 | G7: 0 | H7: 0 | I7: 0
B8: 84 | D8: Primici od zaduživanja | E8: 0 | F8: 0 | G8: 0 | H8: 0 | I8: 0
C9: 81 | D9: Namjenski primici od zaduživanja | E9: 0 | F9: 0 | G9: 0 | H9: 0 | I9: 0
A10: 5 | D10: Izdaci za financijsku imovinu i otplate zajmova
B11: 54 | D11: Izdaci za otplatu glavnice primljenih kredita i zajmova | E11: 0 | F11: 0 | G11: 0 | H11: 0 | I11: 0
C12: 11 | D12: Opći prihodi i primici | E12: 0 | F12: 0 | G12: 0 | H12: 0 | I12: 0
C13: 31 | D13: Vlastiti prihodi | E13: 0 | F13: 0 | G13: 0 | H13: 0 | I13: 0
C14: 43 | D14: Ostali prihodi za posebne namjene | E14: 0 | F14: 0 | G14: 0 | H14: 0 | I14: 0

Sheet II. POSEBNI DIO 
A2: II. POSEBNI DIO
A5: Šifra | B5: NAZIV | C5: Izvršenje 2023. | D5: Tekući plan 2024. | E5: Plan za 2025. | F5: Projekcija za 2026. | G5: Projekcija za 2027.
A6: 086 | B6: MINISTARSTVO RADA, MIROVINSKOGA SUSTAVA, OBITELJI I SOCIJALNE POLITIKE
A7: 08645 | B7: SREDIŠNJI REGISTAR OSIGURANIKA | C7: =+C10+C72+C78+C93+C99 -> 9283570.3 | D7: =+D10+D72+D78+D93+D99 -> 11364200 | E7: =+E10+E72+E78+E93+E99 -> 11345000 | F7: =+F10+F72+F78+F93+F99 -> 11605000 | G7: =+G10+G72+G78+G93+G99 -> 11660000
A8: 41 | B8: MIROVINSKA SIGURNOST | C8: =+C7 -> 9283570.3 | D8: =+D7 -> 11364200 | E8: =+E7 -> 11345000 | F8: =+F7 -> 11605000 | G8: =+G7 -> 11660000
A9: 4101 | B9: PODRŠKA SUSTAVU MIROVINSKOG OSIGURANJA | C9: =+C7 -> 9283570.3 | D9: =+D7 -> 11364200 | E9: =+E7 -> 11345000 | F9: =+F7 -> 11605000 | G9: =+G7 -> 11660000
A10: A539048 | B10: ADMINISTRACIJA I UPRAVLJANJE - REGOS | C10: =+C11+C16+C68 -> 1673339.9 | D10: =+D11+D16+D68 -> 3359100 | E10: =+E11+E16+E68 -> 3448000 | F10: =+F11+F16+F68 -> 3518000 | G10: =+G11+G16+G68 -> 3623000
A11: 31 | B11: Vlastiti prihodi | C11: =+C12 -> 1083.11 | D11: =+D12 -> 1100 | E11: =+E12 -> 1000 | F11: =+F12 -> 1000 | G11: =+G12 -> 1000 | I11: .
A12: 3 | B12: RASHODI POSLOVANJA | C12: =+C13 -> 1083.11 | D12: =+D13 -> 1100 | E12: =+E13 -> 1000 | F12: =+F13 -> 1000 | G12: =+G13 -> 1000
A13: 32 | B13: Materijalni rashodi | C13: =+C14 -> 1083.11 | D13: =+D14 -> 1100 | E13: =+E14 -> 1000 | F13: =+F14 -> 1000 | G13: =+G14 -> 1000
A14: 323 | B14: Rashodi za usluge | C14: =+C15 -> 1083.11 | D14: =+D15 -> 1100 | E14: =+E15 -> 1000 | F14: =+F15 -> 1000 | G14: =+G15 -> 1000
A15: 3234 | B15: Komunalne usluge | C15: 1083.11 | D15: 1100 | E15: 1000 | F15: 1000 | G15: 1000
A16: 43 | B16: Ostali prihodi za posebne namjene | C16: =+C17+C58 -> 1669984.8 | D16: =+D17+D58 -> 3354000 | E16: =+E17+E58 -> 3442000 | F16: =+F17+F58 -> 3512000 | G16: =+G17+G58 -> 3617000
A17: 3 | B17: RASHODI POSLOVANJA | C17: =C18+C27+C53 -> 1586016.6 | D17: =D18+D27+D53 -> 3246000 | E17: =E18+E27+E53 -> 3364000 | F17: =F18+F27+F53 -> 3434000 | G17: =G18+G27+G53 -> 3539000
A18: 31 | B18: Rashodi za zaposlene | C18: =C19+C22+C24 -> 1148221 | D18: =D19+D22+D24 -> 2215000 | E18: =E19+E22+E24 -> 2570000 | F18: =F19+F22+F24 -> 2625000 | G18: =G19+G22+G24 -> 2685000
A19: 311 | B19: Plaće (bruto) | C19: =C20+C21 -> 946930.4 | D19: =D20+D21 -> 1720000 | E19: =E20+E21 -> 2120000 | F19: =F20+F21 -> 2170000 | G19: =G20+G21 -> 2220000
A20: 3111 | B20: Plaće za redovan rad | C20: 944912.85 | D20: 1700000 | E20: 2100000 | F20: 2150000 | G20: 2200000
A21: 3113 | B21: Plaće za prekovremeni rad | C21: 2017.55 | D21: 20000 | E21: 20000 | F21: 20000 | G21: 20000
A22: 312 | B22: Ostali rashodi za zaposlene | C22: =C23 -> 56148.46 | D22: =D23 -> 210000 | E22: =E23 -> 100000 | F22: =F23 -> 100000 | G22: =G23 -> 100000
A23: 3121 | B23: Ostali rashodi za zaposlene | C23: 56148.46 | D23: 210000 | E23: 100000 | F23: 100000 | G23: 100000
A24: 313 | B24: Doprinosi na plaće | C24: =C25+C26 -> 145142.1 | D24: =D25+D26 -> 285000 | E24: =E25+E26 -> 350000 | F24: =F25+F26 -> 355000 | G24: =G25+G26 -> 365000
A25: 3132 | B25: Doprinosi za obvezno zdravstveno osiguranje | C25: 145142.1 | D25: 285000 | E25: 350000 | F25: 355000 | G25: 365000
A26: 3133 | B26: Doprinosi za obvezno osiguranje u slučaju nezaposlenosti | C26: 0 | D26: 0 | E26: 0 | F26: 0 | G26: =+E26+F26 -> 0
A27: 32 | B27: Materijalni rashodi | C27: =C28+C32+C38+C47 -> 436342.9 | D27: =D28+D32+D38+D47 -> 1028500 | E27: =E28+E32+E38+E47 -> 791500 | F27: =F28+F32+F38+F47 -> 806500 | G27: =G28+G32+G38+G47 -> 851500
A28: 321 | B28: Naknade troškova zaposlenima | C28: =C29+C30+C31 -> 38907.56 | D28: =D29+D30+D31 -> 80000 | E28: =E29+E30+E31 -> 80000 | F28: =F29+F30+F31 -> 80000 | G28: =G29+G30+G31 -> 80000
A29: 3211 | B29: Službena putovanja | C29: 3787.64 | D29: 20000 | E29: 20000 | F29: 20000 | G29: 20000
A30: 3212 | B30: Naknade za prijevoz, rad na terenu i odvojeni život | C30: 29838.69 | D30: 40000 | E30: 40000 | F30: 40000 | G30: 40000
A31: 3213 | B31: Stručno usavršavanje zaposlenika | C31: 5281.23 | D31: 20000 | E31: 20000 | F31: 20000 | G31: 20000
A32: 322 | B32: Rashodi za materijal i energiju | C32: =C33+C34+C35+C36+C37 -> 60749.99 | D32: =D33+D34+D35+D36+D37 -> 178000 | E32: =E33+E34+E35+E36+E37 -> 166000 | F32: =F33+F34+F35+F36+F37 -> 176000 | G32: =G33+G34+G35+G36+G37 -> 176000
A33: 3221 | B33: Uredski materijal i ostali materijalni rashodi | C33: 12760.88 | D33: 25000 | E33: 25000 | F33: 25000 | G33: 25000
A34: 3223 | B34: Energija | C34: 47479.77 | D34: 80000 | E34: 90000 | F34: 100000 | G34: 100000
A35: 3224 | B35: Materijal i dijelovi za tekuće i investicijsko održavanje | C35: 0 | D35: 42000 | E35: 20000 | F35: 20000 | G35: 20000
A36: 3225 | B36: Sitni inventar i auto gume | C36: 509.34 | D36: 1000 | E36: 1000 | F36: 1000 | G36: 1000
A37: 3227 | B37: Službena, radna i zaštitna odjeća i obuća | C37: 0 | D37: 30000 | E37: 30000 | F37: 30000 | G37: 30000
A38: 323 | B38: Rashodi za usluge | C38: =+C39+C40+C41+C42+C43+C44+C45+C46 -> 310412.12 | D38: =+D39+D40+D41+D42+D43+D44+D45+D46 -> 725000 | E38: =+E39+E40+E41+E42+E43+E44+E45+E46 -> 500000 | F38: =+F39+F40+F41+F42+F43+F44+F45+F46 -> 505000 | G38: =+G39+G40+G41+G42+G43+G44+G45+G46 -> 550000
A39: 3231 | B39: Usluge telefona, pošte i prijevoza | C39: 71447.83 | D39: 85000 | E39: 80000 | F39: 85000 | G39: 90000
A40: 3232 | B40: Usluge tekućeg i investicijskog održavanja | C40: 112637.83 | D40: 100000 | E40: 60000 | F40: 60000 | G40: 100000
A41: 3233 | B41: Usluge promidžbe i informiranja | C41: 11004.22 | D41: 70000 | E41: 30000 | F41: 30000 | G41: 30000
A42: 3234 | B42: Komunalne usluge | C42: 12277.53 | D42: 30000 | E42: 30000 | F42: 30000 | G42: 30000
A43: 3235 | B43: Zakupnine i najamnine | C43: 67681.06 | D43: 90000 | E43: 90000 | F43: 90000 | G43: 90000
...
