Workbook

Sheet Naslovna
A11: GODIŠNJI IZVJEŠTAJ O IZVRŠENJU FINANCIJSKOG PLANA ZA 2023.g.
A21: Zagreb, veljača 2024. godine

Sheet SAŽETAK
B1: IZVJEŠTAJ O IZVRŠENJU FINANCIJSKOG PLANA ZA 2023. GODINU
F2: 1. OPĆI DIO
D3: 1.1. SAŽETAK RAČUNA PRIHODA I RASHODA I SAŽETAK RAČUNA FINANCIRANJA
B4: 1.2. SAŽETAK RAČUNA PRIHODA I RASHODA
A5: Razred | B5: Naziv | G5: Izvršenje 2022. | H5: Izvorni plan 2023. | I5: Tekući plan 2023. | J5: Izvršenje 2023. | K5: Indeks | L5: Indeks
A6: 1 | G6: 2 | H6: 3 | I6: 4 | J6: 5 | K6: 6=5/3*100 | L6: 7=5/4*100
A7: 6 | B7: PRIHODI POSLOVANJA | G7: =+'Račun prihoda i rashoda'!F9 -> 11217195 | H7: =+'Račun prihoda i rashoda'!G9 -> 13134116 | I7: =+'Račun prihoda i rashoda'!H9 -> 13134116 | J7: =+'Račun prihoda i rashoda'!I9 -> 12316450
A8: 7 | B8: PRIHODI OD PRODAJE NEFINANCIJSKE IMOVINE | G8: 0 | H8: 0 | I8: 0 | J8: =K8 -> 0
A9: PRIHODI UKUPNO | G9: =+G7+G8 -> 11217195 | H9: =+H7+H8 -> 13134116 | I9: =+I7+I8 -> 13134116 | J9: =+J7+J8 -> 12316450 | K9: =+J9/G9*100 -> 109.79974 | L9: =+J9/I9*100 -> 93.77449
A10: 3 | B10: RASHODI POSLOVANJA | G10: =+'Račun prihoda i rashoda'!F33 -> 8408977.7 | H10: =+'Račun prihoda i rashoda'!G33 -> 9833964 | I10: =+'Račun prihoda i rashoda'!H33 -> 9294064 | J10: =+'Račun prihoda i rashoda'!I33 -> 8635978.1
A11: 4 | B11: RASHODI ZA NABAVU NEFINANCIJSKE IMOVINE | G11: =+'Račun prihoda i rashoda'!F75 -> 174784.45 | H11: =+'Račun prihoda i rashoda'!G75 -> 1913066 | I11: =+'Račun prihoda i rashoda'!H75 -> 873066 | J11: =+'Račun prihoda i rashoda'!I75 -> 647592.2
A12: RASHODI UKUPNO | G12: =+G10+G11 -> 8583762.1 | H12: =+H10+H11 -> 11747030 | I12: =+I10+I11 -> 10167130 | J12: =+J10+J11 -> 9283570.3 | K12: =+J12/G12*100 -> 108.1527 | L12: =+J12/I12*100 -> 91.309645
A13: RAZLIKA - VIŠAK / MANJAK | G13: =+G9-G12 -> 2633432.8 | H13: =+H9-H12 -> 1387086 | I13: =+I9-I12 -> 2966986 | J13: =+J9-J12 -> 3032880 | K13: =+J13/G13*100 -> 115.16831 | L13: =+J13/I13*100 -> 102.22091
B16: 1.3. SAŽETAK RAČUNA FINANCIRANJA I PRIJENOS SREDSTAVA U SLJEDEĆU GODINU
A18: Razred | B18: RAČUN FINANCIRANJA | G18: Izvršenje 2022. | H18: Izvorni plan 2023. | I18: Tekući plan 2023. | J18: Izvršenje 2023. | K18: Indeks | L18: Indeks
A19: 1 | G19: 2 | H19: 3 | I19: 4 | J19: 5 | K19: 6=5/4*100 | L19: 6=5/4*100
A20: 8 | B20: PRIMICI OD FINANCIJSKE IMOVINE I ZADUŽIVANJA | G20: 0 | H20: 0 | I20: 0 | J20: 0 | K20: 0 | L20: 0
A21: 5 | B21: IZDACI ZA FINANCIJSKU IMOVINU I OTPLATE ZAJMOVA | G21: 0 | H21: 0 | I21: 0 | J21: 0 | K21: 0 | L21: 0
A22: RAZLIKA PRIMITAKA I IZDATAKA | G22: 0 | H22: 0 | I22: 0 | J22: 0 | K22: 0 | L22: 0
B23: PRIJENOS SREDSTAVA IZ PRETHODNE GODINE | G23: 18345325 | H23: 20295155 | I23: 20295155 | J23: 20978758 | K23: =+J23/G23*100 -> 114.35479 | L23: =+J23/I23*100 -> 103.36831
B24: PRIJENOS SREDSTAVA U SLJEDEĆU GODINU | G24: -20978757 | H24: -21682241 | I24: -21682241 | J24: =-J13-J23 -> -24011638 | K24: =+J24/G24*100 -> 114.45691 | L24: =+J24/I24*100 -> 110.74334
A25: NETO FINANCIRANJE | G25: 0 | H25: 0 | I25: 0 | J25: 0 | K25: 0 | L25: 0
A26: VIŠAK / MANJAK + NETO FINANCIRANJE | G26: =+G23+G24 -> -2633432.8 | H26: =+H23+H24 -> -1387086 | I26: =+I23+I24 -> -1387086 | J26: =+J23+J24 -> -3032880 | K26: 0 | L26: 0

Sheet Račun prihoda i rashoda
A3: 1.2. RAČUN PRIHODA I RASHODA
A5: 1.2.1. PRIHODI PREMA EKONOMSKOJ KLASIFIKACIJI
A7: Razred | B7: Skupina | C7: Podskupina | D7: Odjeljak | E7: Naziv | F7: Izvršenje 2022. | G7: Izvorni plan 2023. | H7: Tekući plan 2023. | I7: Izvršenje 2023. | J7: Indeks | K7: Indeks
A8: 1 | F8: 2 | G8: 3 | H8: 4 | I8: 5 | J8: 6=5/2*100 | K8: 7=5/4*100
A9: 6 | E9: Prihodi poslovanja | F9: =+F10+F14+F17+F20 -> 11217195 | G9: =+G10+G14+G17+G20 -> 13134116 | H9: =+H10+H14+H17+H20 -> 13134116 | I9: =+I10+I14+I17+I20 -> 12316450 | J9: =+I9/F9*100 -> 109.79974 | K9: =+I9/H9*100 -> 93.77449
B10: 63 | E10: Pomoći iz inozemstva i od subjekata unutar općeg proračuna | F10: =+F11 -> 852719.48 | G10: 2588758 | H10: 2588758 | I10: =+I11 -> 1398400.6 | J10: =+I10/F10*100 -> 163.99303 | K10: =+I10/H10*100 -> 54.018203
C11: 632 | E11: Pomoći od međunarodnih organizacija te institucija i tijela EU | F11: =+F12+F13 -> 852719.48 | I11: =+I12+I13 -> 1398400.6 | J11: =+I11/F11*100 -> 163.99303
D12: 6323 | E12: Tekuće pomoći od institucija i tijela EU | F12: 852719.48 | I12: 1022073.2 | J12: =+I12/F12*100 -> 119.86042
D13: 6324 | E13: Kapitalne pomoći od institucija i tijela EU | I13: 376327.37
B14: 65 | E14: Prihodi od upravnih i administrativnih pristojbi, pristojbi po posebnim propisima i naknada | F14: =+F15 -> 10213243 | G14: 10086933 | H14: 10086933 | I14: =+I15 -> 10670520 | J14: =+I14/F14*100 -> 104.47729 | K14: =+I14/H14*100 -> 105.78558
C15: 652 | E15: Prihodi po posebnim propisima | F15: =+F16 -> 10213243 | I15: =+I16 -> 10670520 | J15: =+I15/F15*100 -> 104.47729
D16: 6526 | E16: Ostali nespomenuti prihodi | F16: 10213243 | I16: 10670520 | J16: =+I16/F16*100 -> 104.47729
B17: 66 | E17: Prihodi od prodaje proizvoda i robe te pruženih usluga, prihodi od donacija te povrati po protestiranim jamstvima | F17: =+F18 -> 1083 | G17: 1195 | H17: 1195 | I17: =+I18 -> 1083.11 | J17: =+I17/F17*100 -> 100.01016 | K17: =+I17/H17*100 -> 90.63682
C18: 661 | E18: Prihodi od prodaje proizvoda i robe te pruženih usluga | F18: =+F19 -> 1083 | I18: =+I19 -> 1083.11 | J18: =+I18/F18*100 -> 100.01016
D19: 6615 | E19: Prihodi od pruženih usluga | F19: 1083 | I19: 1083.11 | J19: =+I19/F19*100 -> 100.01016
B20: 67 | E20: Prihodi iz nadležnog proračuna i od HZZO-a temeljem ugovornih obveza | F20: =+F21 -> 150148.94 | G20: 457230 | H20: 457230 | I20: =+I21 -> 246446.22 | J20: =+I20/F20*100 -> 164.13451 | K20: =+I20/H20*100 -> 53.899836
C21: 671 | E21: Prihodi iz nadležnog proračuna za financiranje redovne djelatnosti proračunskih korisnika | F21: =+F22+F23 -> 150148.94 | I21: =+I22+I23 -> 246446.22 | J21: =+I21/F21*100 -> 164.13451
D22: 6711 | E22: Prihodi iz nadležnog proračuna za financiranje rashoda poslovanja | F22: 150148.94 | I22: 180035.51 | J22: =+I22/F22*100 -> 119.90462
D23: 6712 | E23: Prihodi iz nadležnog proračuna za financiranje rashoda za nabavu nefinancijske imovine | F23: 0 | I23: 66410.71 | J23: 0
A24: Ukupni prihodi | F24: =+F9 -> 11217195 | G24: =+G9 -> 13134116 | H24: =+H9 -> 13134116 | I24: =+I9 -> 12316450 | J24: =+I24/F24*100 -> 109.79974 | K24: =+I24/H24*100 -> 93.77449
A29: 1.2.1. RASHODI PREMA EKONOMSKOJ KLASIFIKACIJI
A31: Razred | B31: Skupina | C31: Podskupina | D31: Odjeljak | E31: Naziv | F31: Izvršenje 2022. | G31: Izvorni plan 2023. | H31: Tekući plan 2023. | I31: Izvršenje 2023. | J31: Indeks | K31: Indeks
A32: 1 | F32: 2 | G32: 3 | H32: 4 | I32: 5 | J32: 6=5/2*100 | K32: 7=5/4*100
A33: 3 | E33: Rashodi poslovanja | F33: =+F34+F43+F70 -> 8408977.7 | G33: =+G34+G43+G70 -> 9833964 | H33: =+H34+H43+H70 -> 9294064 | I33: =+I34+I43+I70 -> 8635978.1 | J33: =+I33/F33*100 -> 102.6995 | K33: =+I33/H33*100 -> 92.919288
B34: 31 | E34: Rashodi za zaposlene | F34: =+F35+F38+F40 -> 1422161.1 | G34: =+'II. POSEBNI DIO '!C16+'II. POSEBNI DIO '!C77+'II. POSEBNI DIO '!C97 -> 1844848 | H34: =+'II. POSEBNI DIO '!D16+'II. POSEBNI DIO '!D77+'II. POSEBNI DIO '!D97 -> 1729848 | I34: =+I35+I38+I40 -> 1552579.6 | J34: =+I34/F34*100 -> 109.17045 | K34: =+I34/H34*100 -> 89.752374
C35: 311 | E35: Plaće (bruto) | F35: =+F36+F37 -> 1188131.6 | I35: =+I36+I37 -> 1291639.7 | J35: =+I35/F35*100 -> 108.71184
D36: 3111 | E36: Plaće za redovan rad | F36: 1185772.2 | I36: =+'II. POSEBNI DIO '!E17+'II. POSEBNI DIO '!E78+'II. POSEBNI DIO '!E98 -> 1289622.2 | J36: =+I36/F36*100 -> 108.75801
D37: 3113 | E37: Plaće za prekovremeni rad | F37: 2359.47 | I37: =+'II. POSEBNI DIO '!E18 -> 2017.55 | J37: =+I37/F37*100 -> 85.50861
C38: 312 | E38: Ostali rashodi za zaposlene | F38: =+F39 -> 43121.23 | I38: =+I39 -> 56148.46 | J38: =+I38/F38*100 -> 130.21071
D39: 3121 | E39: Ostali rashodi za zaposlene | F39: 43121.23 | I39: =+'II. POSEBNI DIO '!E19 -> 56148.46 | J39: =+I39/F39*100 -> 130.21071
C40: 313 | E40: Doprinosi na plaće | F40: =+F41+F42 -> 190908.25 | I40: =+I41+I42 -> 204791.46 | J40: =+I40/F40*100 -> 107.27219
D41: 3132 | E41: Doprinosi za obvezno zdravstveno osiguranje | F41: 190908.25 | I41: =+'II. POSEBNI DIO '!E20+'II. POSEBNI DIO '!E79+'II. POSEBNI DIO '!E99 -> 204791.46 | J41: =+I41/F41*100 -> 107.27219
D42: 3133 | E42: Doprinosi za obvezno osiguranje u slučaju nezaposlenosti | F42: 0 | I42: =+'II. POSEBNI DIO '!E21 -> 0 | J42: 0
B43: 32 | E43: Materijalni rashodi | F43: =+F44+F48+F54+F64 -> 6986816.6 | G43: =+'II. POSEBNI DIO '!C13+'II. POSEBNI DIO '!C22+'II. POSEBNI DIO '!C56+'II. POSEBNI DIO '!C60+'II. POSEBNI DIO '!C64+'II. POSEBNI DIO '!C73+'II. POSEBNI DIO '!C80+'II. POSEBNI DIO '!C100 -> 7987391 | H43: =+'II. POSEBNI DIO '!D13+'II. POSEBNI DIO '!D22+'II. POSEBNI DIO '!D56+'II. POSEBNI DIO '!D60+'II. POSEBNI DIO '!D64+'II. POSEBNI DIO '!D73+'II. POSEBNI DIO '!D80+'II. POSEBNI DIO '!D100 -> 7559891 | I43: =+I44+I48+I54+I64 -> 7081945.7 | J43: =+I43/F43*100 -> 101.36155 | K43: =+I43/H43*100 -> 93.677881
C44: 321 | E44: Naknade troškova zaposlenima | F44: =+F45+F46+F47 -> 116972.99 | I44: =+I45+I46+I47 -> 41179.56 | J44: =+I44/F44*100 -> 35.204332
D45: 3211 | E45: Službena putovanja | F45: 7395.58 | I45: =+'II. POSEBNI DIO '!E23+'II. POSEBNI DIO '!E57+'II. POSEBNI DIO '!E81+'II. POSEBNI DIO '!E101 -> 6059.64 | J45: =+I45/F45*100 -> 81.935967
D46: 3212 | E46: Naknade za prijevoz, rad na terenu i odvojeni život | F46: 31796.64 | I46: =+'II. POSEBNI DIO '!E24 -> 29838.69 | J46: =+I46/F46*100 -> 93.842274
D47: 3213 | E47: Stručno usavršavanje zaposlenika | F47: 77780.77 | I47: =+'II. POSEBNI DIO '!E25+'II. POSEBNI DIO '!E82+'II. POSEBNI DIO '!E102 -> 5281.23 | J47: =+I47/F47*100 -> 6.7898916
C48: 322 | E48: Rashodi za materijal i energiju | F48: =+F49+F50+F51+F52+F53 -> 109331.37 | I48: =+I49+I50+I51+I52+I53 -> 90827.86 | J48: =+I48/F48*100 -> 83.075754
D49: 3221 | E49: Uredski materijal i ostali materijalni rashodi | F49: 25402.06 | I49: =+'II. POSEBNI DIO '!E26 -> 12760.88 | J49: =+I49/F49*100 -> 50.235611
...

Sheet Rashodi prema izvorima finan
C3: 1.2.2. IZVJEŠTAJ O PRIHODIMA I RASHODIMA PREMA IZVORIMA FINANCIRANJA
A5: Razred | B5: Skupina | C5: BROJČANA OZNAKA I NAZIV | D5: Izvršenje 2022. | E5: Izvorni plan 2023. | F5: Tekući plan 2023. | G5: Izvršenje 2023. | H5: Indeks | I5: Indeks
A6: 1 | D6: 2 | E6: 3 | F6: 4 | G6: 5 | H6: 6=5/2*100 | I6: 7=5/4*100
A7: UKUPNI PRIHODI | D7: =+D8+D10+D12+D14 -> 11217195 | E7: =+E8+E10+E12+E14 -> 13134116 | F7: =+F8+F10+F12+F14 -> 13134116 | G7: =+G8+G10+G12+G14 -> 12316450 | H7: =+G7/D7*100 -> 109.79974 | I7: =+G7/F7*100 -> 93.77449
A8: 1 | C8: Opći prihodi i primici | D8: =+D9 -> 150148.94 | E8: =+E9 -> 457230 | F8: =+F9 -> 457230 | G8: =+G9 -> 246446.22
B9: 12 | C9: Sredstva učešća za pomoći | D9: =+'Račun prihoda i rashoda'!F20 -> 150148.94 | E9: =+'Račun prihoda i rashoda'!G20 -> 457230 | F9: =+'Račun prihoda i rashoda'!H20 -> 457230 | G9: =+'Račun prihoda i rashoda'!I20 -> 246446.22 | H9: =+G9/D9*100 -> 164.13451 | I9: =+G9/F9*100 -> 53.899836
A10: 3 | C10: Vlastiti prihodi | D10: =+D11 -> 1083 | E10: =+E11 -> 1195 | F10: 1195 | G10: =+G11 -> 1083.11
B11: 31 | C11: Vlastiti prihodi | D11: =+'Račun prihoda i rashoda'!F17 -> 1083 | E11: =+'Račun prihoda i rashoda'!G17 -> 1195 | F11: =+'Račun prihoda i rashoda'!H17 -> 1195 | G11: =+'Račun prihoda i rashoda'!I17 -> 1083.11 | H11: =+G11/D11*100 -> 100.01016 | I11: =+G11/F11*100 -> 90.63682
A12: 4 | C12: Prihodi za posebne namjene | D12: =+D13 -> 10213243 | E12: =+E13 -> 10086933 | F12: =+F13 -> 10086933 | G12: =+G13 -> 10670520
B13: 43 | C13: Ostali prihodi za posebne namjene | D13: =+'Račun prihoda i rashoda'!F14 -> 10213243 | E13: =+'Račun prihoda i rashoda'!G14 -> 10086933 | F13: =+'Račun prihoda i rashoda'!H14 -> 10086933 | G13: =+'Račun prihoda i rashoda'!I14 -> 10670520 | H13: =+G13/D13*100 -> 104.47729 | I13: =+G13/F13*100 -> 105.78558
A14: 5 | C14: Pomoći | D14: =+D15+D16 -> 852719.48 | E14: =+E15+E16 -> 2588758 | F14: =+F15+F16 -> 2588758 | G14: =+G15+G16 -> 1398400.6
B15: 51 | C15: Pomoći od EU | D15: 1875.67 | E15: 0 | F15: 0 | G15: 2272 | H15: 0 | I15: 0
B16: 56 | C16: Fondovi EU | D16: 850843.81 | E16: =+'Račun prihoda i rashoda'!G10 -> 2588758 | F16: =+'Račun prihoda i rashoda'!H10 -> 2588758 | G16: 1396128.6 | H16: =+G16/D16*100 -> 164.08753 | I16: =+G16/F16*100 -> 53.930439
A17: UKUPNI RASODI | D17: =+D18+D20+D22+D24 -> 8583762.1 | E17: =+E18+E20+E22+E24 -> 11747030 | F17: =+F18+F20+F22+F24 -> 10164630 | G17: =+G18+G20+G22+G24 -> 9283570.3 | H17: =+G17/D17*100 -> 108.1527 | I17: =+G17/F17*100 -> 91.332102
A18: 1 | C18: Opći prihodi i primici | D18: =+D19 -> 150148.94 | E18: =+E19 -> 457230 | F18: =+F19 -> 262230 | G18: =+G19 -> 246446.22
B19: 12 | C19: Sredstva učešća za pomoći | D19: 150148.94 | E19: =+'II. POSEBNI DIO '!C76 -> 457230 | F19: =+'II. POSEBNI DIO '!D76 -> 262230 | G19: =+'II. POSEBNI DIO '!E76 -> 246446.22 | H19: =+G19/D19*100 -> 164.13451 | I19: =+G19/F19*100 -> 93.98094
A20: 3 | C20: Vlastiti prihodi | D20: =+D21 -> 1083.02 | E20: =+E21 -> 1195 | F20: 1195 | G20: =+G21 -> 1083.11
B21: 31 | C21: Vlastiti prihodi | D21: 1083.02 | E21: =+'II. POSEBNI DIO '!C12 -> 1195 | F21: =+'II. POSEBNI DIO '!D12 -> 1195 | G21: =+'II. POSEBNI DIO '!E12 -> 1083.11 | H21: =+G21/D21*100 -> 100.00831 | I21: =+G21/F21*100 -> 90.63682
A22: 4 | C22: Prihodi za posebne namjene | D22: =+D23 -> 7579810.7 | E22: =+E23 -> 8699847 | F22: =+F23 -> 8422447 | G22: =+G23 -> 7637640.4
B23: 43 | C23: Ostali prihodi za posebne namjene | D23: 7579810.7 | E23: =+'II. POSEBNI DIO '!C15+'II. POSEBNI DIO '!C59+'II. POSEBNI DIO '!C63+'II. POSEBNI DIO '!C72 -> 8699847 | F23: =+'II. POSEBNI DIO '!D15+'II. POSEBNI DIO '!D59+'II. POSEBNI DIO '!D63+'II. POSEBNI DIO '!D72 -> 8422447 | G23: =+'II. POSEBNI DIO '!E15+'II. POSEBNI DIO '!E59+'II. POSEBNI DIO '!E63+'II. POSEBNI DIO '!E72 -> 7637640.4 | H23: =+G23/D23*100 -> 100.76294 | I23: =+G23/F23*100 -> 90.681964
A24: 5 | C24: Pomoći | D24: =+D25+D26 -> 852719.51 | E24: =+E25+E26 -> 2588758 | F24: =+F25+F26 -> 1478758 | G24: =+G25+G26 -> 1398400.6
B25: 51 | C25: Pomoći od EU | D25: 1875.69 | E25: 0 | F25: 0 | G25: =+'II. POSEBNI DIO '!E55 -> 2272 | H25: 0 | I25: 0
B26: 56 | C26: Fondovi EU | D26: 850843.82 | E26: =+'II. POSEBNI DIO '!C96 -> 2588758 | F26: =+'II. POSEBNI DIO '!D96 -> 1478758 | G26: =+'II. POSEBNI DIO '!E96 -> 1396128.6 | H26: =+G26/D26*100 -> 164.08752 | I26: =+G26/F26*100 -> 94.41224

Sheet Rashodi prema funkcijskoj k 
A3: 1.2.3. IZVJEŠTAJ O RASHODI PREMA FUNKCIJSKOJ KLASIFIKACIJI
A5: BROJČANA OZNAKA I NAZIV | B5: Izvršenje 2022. | C5: Izvorni plan 2023. | D5: Tekući plan 2023. | E5: Izvršenje 2023. | F5: Indeks | G5: Indeks
A6: 1 | B6: 2 | C6: 3 | D6: 4 | E6: 5 | F6: 6=5/2*100 | G6: 7=5/4*100
A7: UKUPNI RASHODI | B7: =+B8 -> 8583762.1 | C7: =+C8 -> 11747030 | D7: =+D8 -> 10167130 | E7: =+E8 -> 9283570.3 | F7: =+E7/B7*100 -> 108.1527 | G7: =+E7/D7*100 -> 91.309645
A8: 10 Socijalna zaštita | B8: =+B9 -> 8583762.1 | C8: =+C9 -> 11747030 | D8: =+D9 -> 10167130 | E8: =+E9 -> 9283570.3 | F8: =+E8/B8*100 -> 108.1527 | G8: =+E8/D8*100 -> 91.309645
A9: 109 Opći ekonomski, trgovački i poslovi vezani uz rad | B9: =+'Račun prihoda i rashoda'!F90 -> 8583762.1 | C9: =+'II. POSEBNI DIO '!C8 -> 11747030 | D9: =+'II. POSEBNI DIO '!D8 -> 10167130 | E9: =+'II. POSEBNI DIO '!E8 -> 9283570.3 | F9: =+E9/B9*100 -> 108.1527 | G9: =+E9/D9*100 -> 91.309645

Sheet Račun financiranja
A3: 1.3. RAČUN FINANCIRANJA
A5: 1.3. 1. IZVJEŠTAJ RAČUNA FINANCIRANJA PREMA EKONOMSKOJ KLASIFIKACIJI
A7: BROJČANA OZNAKA I NAZIV | F7: Izvršenje 2022. | G7: Izvorni plan 2023. | H7: Tekući plan 2023. | I7: Izvršenje 2023. | J7: Indeks | K7: Indeks
A8: 1 | F8: 2 | G8: 3 | H8: 4 | I8: 5 | J8: 6=5/2*100 | K8: 7=5/4*100
A9: 8 | E9: Primici od financijske imovine i zaduživanja
B10: 84 | E10: Primici od zaduživanja | F10: 0 | G10: 0 | H10: 0 | I10: 0
C11: 841 | E11: Primljeni krediti i zajmovi od međunarodnih organizacija, institucija i tijela EU te inozemnih vlada | F11: 0 | G11: 0 | H11: 0 | I11: 0
D12: 8413 | E12: Primljeni zajmovi od međunarodnih organizacija | F12: 0 | G12: 0 | H12: 0 | I12: 0
A13: 5 | E13: Izdaci za financijsku imovinu i otplate zajmova
B14: 54 | E14: Izdaci za otplatu glavnice primljenih kredita i zajmova | F14: 0 | G14: 0 | H14: 0 | I14: 0
C15: 541 | E15: Otplata glavnice primljenih kredita i zajmova od međunarodnih organizacija, institucija i tijela EU te inozemnih vlada | F15: 0 | G15: 0 | H15: 0 | I15: 0
D16: 5413 | E16: Otplata glavnice primljenih zajmova od međunarodnih organizacija | F16: 0 | G16: 0 | H16: 0 | I16: 0
A19: 1.3. 2. IZVJEŠTAJ RAČUNA FINANCIRANJA PREMA IZVORIMA FINANCIRANJA
A21: BROJČANA OZNAKA I NAZIV | F21: Izvršenje 2022. | G21: Izvorni plan 2023. | H21: Tekući plan 2023. | I21: Izvršenje 2023. | J21: Indeks | K21: Indeks
A22: 1 | F22: 2 | G22: 3 | H22: 4 | I22: 5 | J22: 6=5/2*100 | K22: 7=5/4*100
A23: UKUPNO PRIMICI
A24: 1 | E24: Opći prihodi i primici
A25: 11 | E25: Opći prihodi i primici | F25: 0 | G25: 0 | H25: 0 | I25: 0
A26: 12 | E26: Sredstva učešća u pomoći | F26: 0 | G26: 0 | H26: 0 | I26: 0
A27: 3 | E27: Vlastiti prihodi
A28: 31 | E28: Vlastiti prihodi | F28: 0 | G28: 0 | H28: 0 | I28: 0
A29: 4 | E29: Prihodi za posebne namjene
A30: 43 | E30: Ostali prihodi za posebne namjene | F30: 0 | G30: 0 | H30: 0 | I30: 0
A31: 1 | E31: Opći prihodi i primici
A32: UKUPNO IZDACI
A33: 1 | E33: Opći prihodi i primici
A34: 11 | E34: Opći prihodi i primici | F34: 0 | G34: 0 | H34: 0 | I34: 0
A35: 12 | E35: Sredstva učešća u pomoći | F35: 0 | G35: 0 | H35: 0 | I35: 0
A36: 3 | E36: Vlastiti prihodi
A37: 31 | E37: Vlastiti prihodi | F37: 0 | G37: 0 | H37: 0 | I37: 0
A38: 4 | E38: Prihodi za posebne namjene
A39: 43 | E39: Ostali prihodi za posebne namjene | F39: 0 | G39: 0 | H39: 0 | I39: 0
A40: 1 | E40: Opći prihodi i primici

Sheet II. POSEBNI DIO 
A2: 2. POSEBNI DIO
A4: IZVJEŠTAJ PO PROGRAMSKOJ KLASIFIKACIJI
A6: BROJČANA OZNAKA I NAZIV | C6: Izvorni plan za 2023. | D6: Tekući plan za 2023. | E6: Izvršenje 2023. | F6: Indeks
A7: 1 | C7: 2 | D7: 3 | E7: 4 | F7: 5=4/3*100
A8: 08645 | B8: SREDIŠNJI REGISTAR OSIGURANIKA | C8: =+C11+C58+C62+C71+C75 -> 11747030 | D8: =+D11+D58+D62+D71+D75 -> 10167130 | E8: =+E11+E58+E62+E71+E75 -> 9283570.3 | F8: =+E8/D8*100 -> 91.309645
A9: 41 | B9: MIROVINSKA SIGURNOST | C9: =+C8 -> 11747030 | D9: =+D8 -> 10167130 | E9: =+E8 -> 9283570.3 | F9: =+E9/D9*100 -> 91.309645
A10: 4101 | B10: PODRŠKA SUSTAVU MIROVINSKOG OSIGURANJA | C10: =+C8 -> 11747030 | D10: =+D8 -> 10167130 | E10: =+E8 -> 9283570.3 | F10: =+E10/D10*100 -> 91.309645
A11: A539048 | B11: ADMINISTRACIJA I UPRAVLJANJE SREDIŠNJEG REGISTRA OSIGURANIKA | C11: =+C12+C15 -> 2297167 | D11: =+D12+D15+D55 -> 2192267 | E11: =+E12+E15+E55 -> 1673339.9 | F11: =+E11/D11*100 -> 76.3292
A12: 31 | B12: Vlastiti prihodi | C12: =+C13 -> 1195 | D12: =+D13 -> 1195 | E12: =+E13 -> 1083.11 | F12: =+E12/D12*100 -> 90.63682
A13: 32 | B13: Materijalni rashodi | C13: 1195 | D13: 1195 | E13: =+E14 -> 1083.11 | F13: =+E13/D13*100 -> 90.63682
A14: 3234 | B14: Komunalne usluge | E14: 1083.11
A15: 43 | B15: Ostali prihodi za posebne namjene | C15: =+C16+C22+C44+C48+C53 -> 2295972 | D15: =+D16+D22+D44+D48+D53 -> 2188572 | E15: =+E16+E22+E44+E48+E53 -> 1669984.8 | F15: =+E15/D15*100 -> 76.304767
A16: 31 | B16: Rashodi za zaposlene | C16: 1440043 | D16: 1325043 | E16: =+E17+E18+E19+E20+E21 -> 1148221 | F16: =+E16/D16*100 -> 86.655373
A17: 3111 | B17: Plaće za redovan rad | E17: 944912.85
A18: 3113 | B18: Plaće za prekovremeni rad | E18: 2017.55
A19: 3121 | B19: Ostali rashodi za zaposlene | E19: 56148.46
A20: 3132 | B20: Doprinosi za obvezno zdravstveno osiguranje | E20: 145142.1
A21: 3133 | B21: Doprinosi za obvezno osiguranje u slučaju nezaposlenosti | E21: 0
A22: 32 | B22: Materijalni rashodi | C22: 693079 | D22: 698079 | E22: =+E23+E24+E25+E26+E27+E28+E29+E30+E31+E32+E33+E34+E35+E36+E37+E38+E39+E40+E41+E42+E43 -> 436342.9 | F22: =+E22/D22*100 -> 62.506235
A23: 3211 | B23: Službena putovanja | E23: 3787.64
A24: 3212 | B24: Naknade za prijevoz, rad na terenu i odvojeni život | E24: 29838.69
A25: 3213 | B25: Stručno usavršavanje zaposlenika | E25: 5281.23
A26: 3221 | B26: Uredski materijal i ostali materijalni rashodi | E26: 12760.88
A27: 3223 | B27: Energija | E27: 47479.77
A28: 3224 | B28: Materijal i dijelovi za tekuće i investicijsko održavanje | E28: 0
A29: 3225 | B29: Sitni inventar i auto gume | E29: 509.34
A30: 3227 | B30: Službena, radna i zaštitna odjeća i obuća | E30: 0
A31: 3231 | B31: Usluge telefona, pošte i prijevoza | E31: 71447.83
A32: 3232 | B32: Usluge tekućeg i investicijskog održavanja | E32: 112637.83
A33: 3233 | B33: Usluge promidžbe i informiranja | E33: 11004.22
A34: 3234 | B34: Komunalne usluge | E34: 12277.53
... A43: 3299 | B43: Ostali nespomenuti rashodi poslovanja | E43: 2469.27
A44: 34 | B44: Financijski rashodi | C44: 1725 | D44: 4325 | E44: =+E45+E46+E47 -> 1452.72 | F44: =+E44/D44*100 -> 33.588902
A45: 3431 | B45: Bankarske usluge i usluge platnog prometa | E45: 0
A46: 3433 | B46: Zatezne kamate | E46: 0
A47: 3434 | B47: Ostali nespomenuti financijski rashodi | E47: 1452.72
A48: 42 | B48: Rashodi za nabavu proizvedene dugotrajne imovine | C48: 160594 | D48: 160594 | E48: =+E49+E50+E51+E52 -> 83968.18 | F48: =+E48/D48*100 -> 52.286001
A49: 4221 | B49: Uredska oprema i namještaj | E49: 73983.78
A50: 4222 | B50: Komunikacijska opema | E50: 1125
A51: 4223 | B51: Oprema za održavanje i zaštitu | E51: 8859.4
...
